BEGIN:VCALENDAR
VERSION:2.0
PRODID:icalendar-ruby
CALSCALE:GREGORIAN
METHOD:PUBLISH
BEGIN:VEVENT
DTSTAMP:20260423T214841Z
UID:365-1239453@firstbaptist294.tithelysetup5.com
DTSTART:20261008T000000Z
DTEND:20261008T020000Z
CLASS:PUBLIC
CREATED:20260423T144524
DESCRIPTION:Men of all ages are welcome to join. \nEmail rusty@fbcplatteci
 ty.com for more information.
LAST-MODIFIED:20260423T144524
LOCATION:
SUMMARY:Men's Group
URL;VALUE=URI:https://fbcplattecity.com/events/mens-group/2026-10-07
ATTACH;FILENAME=mens 25.jpg;FMTTYPE=image/jpeg:https://dq5pwpg1q8ru0.cloudf
 ront.net/2025/10/20/20/10/01/1daa243e-f1ab-4271-a2b8-cdb5f41f4804/mens%202
 5.jpg
END:VEVENT
END:VCALENDAR
