BEGIN:VCALENDAR
VERSION:2.0
PRODID:icalendar-ruby
CALSCALE:GREGORIAN
METHOD:PUBLISH
BEGIN:VEVENT
DTSTAMP:20260423T182435Z
UID:365-1238714@firstbaptist294.tithelysetup5.com
DTSTART:20260924T000000Z
DTEND:20260924T020000Z
CLASS:PUBLIC
CREATED:20260423T114839
DESCRIPTION:Men of all ages are welcome to join. \nEmail rusty@fbcplatteci
 ty.com for more information.
LAST-MODIFIED:20260423T114839
LOCATION:
SUMMARY:Men's Group
URL;VALUE=URI:https://fbcplattecity.com/events/mens-group/2026-09-23
ATTACH;FILENAME=mens 25.jpg;FMTTYPE=image/jpeg:https://dq5pwpg1q8ru0.cloudf
 ront.net/2025/10/20/20/10/01/1daa243e-f1ab-4271-a2b8-cdb5f41f4804/mens%202
 5.jpg
END:VEVENT
END:VCALENDAR
